BEGIN:VCALENDAR
VERSION:2.0
PRODID:-//DCU LEIS - ECPv4.4.5//NONSGML v1.0//EN
CALSCALE:GREGORIAN
METHOD:PUBLISH
X-WR-CALNAME:DCU LEIS
X-ORIGINAL-URL:http://dculeis.ie
X-WR-CALDESC:Events for DCU LEIS
BEGIN:VEVENT
DTSTART;TZID=UTC+0:20170427T180000
DTEND;TZID=UTC+0:20170427T200000
DTSTAMP:20171105T203157
CREATED:20160728T125342Z
LAST-MODIFIED:20170403T224859Z
UID:12766-1493316000-1493323200@dculeis.ie
SUMMARY:Teacher CPD Workshop - LEGO Education WeDo 2.0 Introduction
DESCRIPTION:In this workshop\, teachers will be introduced to LEGO Education WeDo 2.0.\n\nTHIS IS A TEST.  YOU CAN NOT BOOK THIS WORKSHOP.
URL:http://dculeis.ie/event/teacher-cpd-april/
LOCATION:F Block\, Drumcondra Road Upper\, Drumcondra\, Dublin\, Ireland
CATEGORIES:Teacher CPD Workshop
ATTACH;FMTTYPE=image/jpeg:http://dculeis.ie/wp-content/uploads/2015/11/IMG_0434.jpg
ORGANIZER;CN="Ross%20Maguire":MAILTO:info@dculeis.ie
END:VEVENT
END:VCALENDAR